BEGIN:VCALENDAR
VERSION:2.0
PRODID:-//St. Paul Pub - ECPv6.15.20//NONSGML v1.0//EN
CALSCALE:GREGORIAN
METHOD:PUBLISH
X-ORIGINAL-URL:https://pubstpaul.com
X-WR-CALDESC:Événements pour St. Paul Pub
REFRESH-INTERVAL;VALUE=DURATION:PT1H
X-Robots-Tag:noindex
X-PUBLISHED-TTL:PT1H
BEGIN:VTIMEZONE
TZID:UTC
BEGIN:STANDARD
TZOFFSETFROM:+0000
TZOFFSETTO:+0000
TZNAME:UTC
DTSTART:20220101T000000
END:STANDARD
END:VTIMEZONE
BEGIN:VEVENT
DTSTART;TZID=UTC:20230622T210000
DTEND;TZID=UTC:20230623T030000
DTSTAMP:20260423T144514
CREATED:20230608T133613Z
LAST-MODIFIED:20230614T014543Z
UID:1289-1687467600-1687489200@pubstpaul.com
SUMMARY:Summer Nights
DESCRIPTION:Achetez un billet\n \nVenez faire la fête avec nous ! \nUn mélange de musique latino\, d’afrobeats et de tous les tubes de l’été ! \nCome party with us! \nA mix of Latino music\, Afrobeats and all the Summer hits you can think of! \n 
URL:https://pubstpaul.com/event/summer-nights/
ATTACH;FMTTYPE=image/jpeg:https://pubstpaul.com/wp-content/uploads/2023/06/event.jpg
END:VEVENT
BEGIN:VEVENT
DTSTART;TZID=UTC:20230317T210000
DTEND;TZID=UTC:20230318T000000
DTSTAMP:20260423T144514
CREATED:20230217T135746Z
LAST-MODIFIED:20230613T152543Z
UID:1195-1679086800-1679097600@pubstpaul.com
SUMMARY:Garden of Rose's
DESCRIPTION:Achetez un billet\n\n\nTribute to Guns n’ Roses au Pub St.Paul ! Venez nombreux ! \nLe prix des billets est de 20$ à la porte et des frais supplémentaires sont ajoutée à l’achat de billets en ligne. \nVeuillez notez que l’achat de billets en ligne vous garantie une entrée pour l’événement. \nLe lien pour la vente en ligne est ci-dessous dans la section « Site Web »
URL:https://pubstpaul.com/event/garden-of-roses/
ATTACH;FMTTYPE=image/jpeg:https://pubstpaul.com/wp-content/uploads/2023/03/Screenshot_20230216_193412_Canva.jpg
ORGANIZER;CN="Catherine Fortier":MAILTO:Cath.fort4444@gmail.com
END:VEVENT
END:VCALENDAR